BEGIN:VCALENDAR
VERSION:2.0
PRODID:-//Tukios.com/
BEGIN:VEVENT
UID:01bdbda8-f22a-4bb0-982e-d27c78ec7212@www.lindfamilyfh.com
DTSTAMP:20260423T204730Z
DTSTART:20260428
SUMMARY:Burial
DESCRIPTION:
URL:https://www.lindfamilyfh.com/obituaries/james-jim-johnson
LOCATION: 530 Agnes Blvd NW  Alexandria MN 56308
GEO:45.8987781;-95.3862955
END:VEVENT
END:VCALENDAR