BEGIN:VCALENDAR
VERSION:2.0
PRODID:-//Tukios.com/
BEGIN:VEVENT
UID:5ccc5f09-84ba-4a1b-b4b3-719d4a12571c@www.lindfamilyfh.com
DTSTAMP:20260423T204818Z
DTSTART:20260428T160000Z
DTEND:20260428T170000Z
SUMMARY:Funeral Service
DESCRIPTION:
URL:https://www.lindfamilyfh.com/obituaries/james-jim-johnson
LOCATION:First Lutheran Church 1655 18th Ave E  Alexandria MN 56308
GEO:45.871217;-95.3724235
END:VEVENT
END:VCALENDAR