BEGIN:VCALENDAR
VERSION:2.0
PRODID:-//Tukios.com/
BEGIN:VEVENT
UID:58968b87-050f-4d54-b211-ba4c102cd38e@www.lindfamilyfh.com
DTSTAMP:20260423T204848Z
DTSTART:20260428T150000Z
DTEND:20260428T160000Z
SUMMARY:Visitation
DESCRIPTION:
URL:https://www.lindfamilyfh.com/obituaries/james-jim-johnson
LOCATION: 1655 18th Ave E  Alexandria MN 56308
GEO:45.871217;-95.3724235
END:VEVENT
END:VCALENDAR