BEGIN:VCALENDAR
VERSION:2.0
PRODID:-//Tukios.com/
BEGIN:VEVENT
UID:7174288f-49c7-4eba-8178-3c420d49c5a0@www.lindfamilyfh.com
DTSTAMP:20260423T204843Z
DTSTART:20260427T220000Z
DTEND:20260428T000000Z
SUMMARY:Visitation
DESCRIPTION:
URL:https://www.lindfamilyfh.com/obituaries/james-jim-johnson
LOCATION:Lind Family Funeral Home 1623 10th Avenue East  Alexandria MN 
	56308
GEO:45.8788475;-95.3530923
END:VEVENT
END:VCALENDAR