BEGIN:VCALENDAR
VERSION:2.0
PRODID:-//Tukios.com/
BEGIN:VEVENT
UID:ba568f7f-3999-4a2b-ab9e-6b5548f5f840@www.lindfamilyfh.com
DTSTAMP:20260422T065613Z
DTSTART:20260501T160000Z
DTEND:20260501T170000Z
SUMMARY:Mass of Christian Burial
DESCRIPTION:
URL:https://www.lindfamilyfh.com/obituaries/clifford-cliff-koep
LOCATION: 16921 County Rd 7 NW  Brandon MN 56315
GEO:46.0693496;-95.5597011
END:VEVENT
END:VCALENDAR