BEGIN:VCALENDAR
VERSION:2.0
PRODID:-//Tukios.com/
BEGIN:VEVENT
UID:b668f8a7-b3e3-4bad-b402-2e864fddd0eb@www.lindfamilyfh.com
DTSTAMP:20260422T065316Z
DTSTART:20260501T150000Z
DTEND:20260501T160000Z
SUMMARY:Visitation
DESCRIPTION:
URL:https://www.lindfamilyfh.com/obituaries/clifford-cliff-koep
LOCATION: 16921 County Rd 7 NW  Brandon MN 56315
GEO:46.0693496;-95.5597011
END:VEVENT
END:VCALENDAR