BEGIN:VCALENDAR
VERSION:2.0
PRODID:-//Tukios.com/
BEGIN:VEVENT
UID:e1a4d24e-c69f-4b82-ab66-362b9a7c414c@www.lindfamilyfh.com
DTSTAMP:20260422T065752Z
DTSTART:20260430T220000Z
DTEND:20260501T000000Z
SUMMARY:Visitation
DESCRIPTION:
URL:https://www.lindfamilyfh.com/obituaries/clifford-cliff-koep
LOCATION: 1623 10th Ave E  Alexandria MN 56308
GEO:45.8788475;-95.3530923
END:VEVENT
END:VCALENDAR