BEGIN:VCALENDAR
VERSION:2.0
PRODID:-//Tukios.com/
BEGIN:VEVENT
UID:fd07a021-e816-4b98-8d2f-f34ef5a52b37@www.lindfamilyfh.com
DTSTAMP:20260422T070022Z
DTSTART:20260430T220000Z
DTEND:20260430T221500Z
SUMMARY:Prayer Service
DESCRIPTION:
URL:https://www.lindfamilyfh.com/obituaries/clifford-cliff-koep
LOCATION: 1623 10th Ave E  Alexandria MN 56308
GEO:45.8788475;-95.3530923
END:VEVENT
END:VCALENDAR